BEGIN:VCALENDAR
VERSION:2.0
PRODID:-//Sicily Italian Restaurant London - ECPv6.15.20//NONSGML v1.0//EN
CALSCALE:GREGORIAN
METHOD:PUBLISH
X-WR-CALNAME:Sicily Italian Restaurant London
X-ORIGINAL-URL:https://www.eatatsicily.com
X-WR-CALDESC:Events for Sicily Italian Restaurant London
REFRESH-INTERVAL;VALUE=DURATION:PT1H
X-Robots-Tag:noindex
X-PUBLISHED-TTL:PT1H
BEGIN:VTIMEZONE
TZID:UTC
BEGIN:STANDARD
TZOFFSETFROM:+0000
TZOFFSETTO:+0000
TZNAME:UTC
DTSTART:20240101T000000
END:STANDARD
END:VTIMEZONE
BEGIN:VEVENT
DTSTART;VALUE=DATE:20250427
DTEND;VALUE=DATE:20250428
DTSTAMP:20260420T155713
CREATED:20240320T112122Z
LAST-MODIFIED:20250423T084908Z
UID:17273-1745712000-1745798399@www.eatatsicily.com
SUMMARY:Fuel Up for the London Marathon
DESCRIPTION:Whether you’re running the TCS London Marathon or cheering from the sidelines\, Sicily Restaurant in Belgravia is your go-to spot for pre- and post-race dining. \nThe Perfect Pre-Race Meal\nGetting ready to take on 26.2 miles? Our menu is packed with runner-friendly dishes ideal for carb-loading\, including hearty pasta plates like our Penne all’Arrabbiata (vegan)\, creamy Tagliatelle Bolognese\, and our fan-favourite Lasagne al Forno – rich in flavour and energy to fuel your big day. \nRecharge & Recover the Italian Way\nAfter crossing that finish line\, treat your body to what it deserves: fresh\, wholesome ingredients that support muscle recovery. Our lean proteins\, complex carbs\, and nourishing sides — from grilled salmon and seasonal veggies to protein-rich Porchetta Arrosto and vibrant Italian salads — make recovery delicious. \nWe also serve smooth Italian coffee\, and wines for when it’s time to relax and toast your achievement. \nJust Steps from the Action\nLocated just minutes from Victoria Station\, we’re perfectly placed whether you’re heading to the race\, meeting friends\, or planning a celebratory meal. \n\nBook your table for Marathon Weekend now – and fuel like an Italian. 🇮🇹
URL:https://www.eatatsicily.com/events-sicily/london-marathon/
LOCATION:Sicily Italian Restaurant\, 2a Elizabeth Street\, London\, Belgravia\, SW1W 9RB\, United Kingdom
CATEGORIES:London Matahon
ATTACH;FMTTYPE=image/jpeg:https://www.eatatsicily.com/wp-content/uploads/2024/03/london-marathon.jpg
END:VEVENT
BEGIN:VEVENT
DTSTART;TZID=UTC:20250502T190000
DTEND;TZID=UTC:20250502T220000
DTSTAMP:20260420T155713
CREATED:20240619T121147Z
LAST-MODIFIED:20250429T083638Z
UID:17345-1746212400-1746223200@www.eatatsicily.com
SUMMARY:Graham Pike Trio
DESCRIPTION:Join us at Sicily in Belgravia for an evening of outstanding live jazz in London\, featuring the Graham Pike Trio. \nKnown for their polished style and deep musicality\, the Graham Pike Trio move seamlessly from timeless jazz standards to bold\, adventurous pieces that delight true jazz aficionados. Their sound is inspired by the greats — Coltrane\, Gershwin\, Fats Waller\, and Charlie Parker — blending influences across eras to create a rich\, vibrant atmosphere. \nTheir wide-ranging repertoire includes Post-Bebop\, Cool Jazz\, Latin grooves\, Ambient textures\, and original compositions\, making every performance unique and unforgettable. \nRelax with fine food\, drinks\, and the very best of live music in London at Sicily.Reserve your table now and experience the magic of live jazz in Belgravia!
URL:https://www.eatatsicily.com/events-sicily/graham-pike-trio-30-2-2-2-5-4-3/
LOCATION:Sicily Italian Restaurant\, 2a Elizabeth Street\, London\, Belgravia\, SW1W 9RB\, United Kingdom
CATEGORIES:Jazz,Live music
ATTACH;FMTTYPE=image/jpeg:https://www.eatatsicily.com/wp-content/uploads/2023/04/Harp2-scaled.jpg
END:VEVENT
BEGIN:VEVENT
DTSTART;VALUE=DATE:20250519
DTEND;VALUE=DATE:20250527
DTSTAMP:20260420T155713
CREATED:20240403T131450Z
LAST-MODIFIED:20250417T103215Z
UID:17277-1747612800-1748303999@www.eatatsicily.com
SUMMARY:Chelsea Flower Show & Belgravia In Bloom
DESCRIPTION:Celebrate Chelsea Flower Show & Belgravia in Bloom at Sicily \nThis May\, as Chelsea bursts into bloom\, join us at Sicily in Belgravia—just a short stroll from the Chelsea Flower Show and at the heart of Belgravia in Bloom. \nTo mark the occasion\, we’re serving an exclusive cocktail created especially for the floral festivities: the Garden Martini. \n🌸 Garden MartiniGin | Dry Vermouth | Elderflower Syrup | Orange BittersA delicate twist on the classic martini\, this floral-forward cocktail is infused with fragrant elderflower and finished with a hint of citrus. Elegant\, refreshing\, and perfect for spring. \nWhether you’re visiting the show gardens or strolling through the neighbourhood’s floral installations\, make time to sip and savour this limited-edition drink at our bar. \nAvailable exclusively during Chelsea Flower Show & Belgravia in Bloom. \nWhere: Sicily Restaurant\, BelgraviaWhen: During Chelsea Flower Show & Belgravia in Bloom Nearest station: Victoria Station – just minutes from the RHS Chelsea Flower Show grounds
URL:https://www.eatatsicily.com/events-sicily/chelsea-flower-show-belgravia-in-bloom/
LOCATION:Sicily Italian Restaurant\, 2a Elizabeth Street\, London\, Belgravia\, SW1W 9RB\, United Kingdom
CATEGORIES:Chelsea Flower Show
END:VEVENT
BEGIN:VEVENT
DTSTART;VALUE=DATE:20250615
DTEND;VALUE=DATE:20250616
DTSTAMP:20260420T155713
CREATED:20240610T101501Z
LAST-MODIFIED:20250604T092215Z
UID:17339-1749945600-1750031999@www.eatatsicily.com
SUMMARY:Father's Day
DESCRIPTION:Celebrate Father’s Day 2025 in London with Pizza\, Pints & Pure Joy at Sicily Restaurant  \nLooking for the best place to celebrate Father’s Day in London? Treat Dad to a perfect combo this Sunday\, 15th June 2025 – a mouthwatering pizza and a cold pint of our signature Sicily Pilsner\, right here at Sicily Restaurant in Belgravia. \nThis Father’s Day\, we’re raising a glass to all the amazing dads out there! Every dad who dines with us on the big day gets a FREE pint of Sicily Pilsner – our crisp\, refreshing house brew that pairs brilliantly with our handcrafted pizzas. \nHere’s how it works:➡️ Download the voucher using the link below➡️ Show it to our friendly team on arrival➡️ Let Dad kick back\, relax\, and enjoy his free pint on us! \nWhether he’s into bold toppings\, cheesy classics\, or fiery flavours\, there’s a pizza with Dad’s name on it waiting at our table. \nAt Sicily Restaurant\, we know how important it is to celebrate family – and Father’s Day is the perfect excuse to eat well\, laugh loud\, and share some unforgettable moments together. \n🎉 Book your table now to give Dad the Father’s Day he truly deserves – filled with great food\, great beer\, and even greater company. \nFather’s Day in London just got tastier. Cheers to you\, Dad – you’ve earned it. \nDOWNLOAD VOUCHER HERE \n 
URL:https://www.eatatsicily.com/events-sicily/fathersday/
LOCATION:Sicily Italian Restaurant\, 2a Elizabeth Street\, London\, Belgravia\, SW1W 9RB\, United Kingdom
CATEGORIES:Father's Day
ATTACH;FMTTYPE=image/jpeg:https://www.eatatsicily.com/wp-content/uploads/2024/06/Father´s-Day-Gift.jpg
END:VEVENT
BEGIN:VEVENT
DTSTART;TZID=UTC:20250815T190000
DTEND;TZID=UTC:20250815T220000
DTSTAMP:20260420T155713
CREATED:20250801T075441Z
LAST-MODIFIED:20250801T075624Z
UID:17620-1755284400-1755295200@www.eatatsicily.com
SUMMARY:Kate Daniels Trio
DESCRIPTION:Live Jazz Nights at Sicily Restaurant\nStep into the warm\, candlelit ambiance of Sicily Restaurant and let the sounds of timeless jazz transport you. We’re thrilled to host regular performances by The Kate Daniels Jazz Band\, bringing a touch of vintage glamour and soul-stirring melodies to your dining experience. \nAbout The Kate Daniels Jazz Band\nFrom the smoky spirit of gypsy jazz to the golden era of the Great American Songbook\, The Kate Daniels Jazz Band offers a musical journey that’s both sophisticated and deeply joyful. Whether performing as a cosy duo or a vibrant sextet\, their lineup of guitar\, piano\, double bass\, vocals\, violin\, trumpet\, sax\, and drums creates an unforgettable live atmosphere. \nHailing from Tunbridge Wells\, this group of seasoned musicians has toured extensively across the UK\, gracing stages from intimate private parties to large festivals. Notably\, they’ve lit up Regent Street as a quintet for the Summer Streets Festival and regularly charm audiences in small venues with the same professional finesse and passion. \nWith an ever-growing repertoire and a genuine love for crafting the perfect vibe\, The Kate Daniels Jazz Band is the ideal accompaniment to a beautiful Sicilian meal. \n\nCome for the food\, stay for the music. Book your table now and enjoy an evening of delicious Italian cuisine and sensational live jazz.
URL:https://www.eatatsicily.com/events-sicily/kate-daniels-trio/
LOCATION:Sicily Italian Restaurant\, 2a Elizabeth Street\, London\, Belgravia\, SW1W 9RB\, United Kingdom
CATEGORIES:Jazz,Live music
ATTACH;FMTTYPE=image/jpeg:https://www.eatatsicily.com/wp-content/uploads/2025/08/Facebook-Image-e1754034874864.jpg
END:VEVENT
BEGIN:VEVENT
DTSTART;TZID=UTC:20251003T190000
DTEND;TZID=UTC:20251003T210000
DTSTAMP:20260420T155713
CREATED:20240729T143304Z
LAST-MODIFIED:20250801T080845Z
UID:17373-1759518000-1759525200@www.eatatsicily.com
SUMMARY:Dino Baptiste
DESCRIPTION:Dino Baptiste\, the lively pianist and entertainer originally from London\, UK\, has found a vibrant new home in Birmingham. His lively performances and strong connections to Blues\, Boogie Woogie\, and Rock & Roll offer a varied musical experience. \nInfluenced by legendary idols like Little Richard\, Jerry Lee Lewis\, and Ray Charles since his teenage years\, Dino incorporates their iconic qualities into his shows\, filling them with charisma and boundless energy. Now residing in Birmingham\, he continues to captivate audiences\, effortlessly moving between classics and contemporary covers\, highlighting his versatility and musical skill. \nDino’s stage presence reflects the influence of his idols\, presenting a captivating mix of enthusiasm and charm that keeps audiences engaged. As a highly spirited entertainer\, he turns each performance into a memorable musical journey\, whether delivering timeless tunes or giving a unique twist to current hits. \nBirmingham audiences are lucky to experience the enchanting performances of Dino Baptiste\, a pianist and vocalist whose shows honor the enduring spirit of Blues\, Boogie Woogie\, and Rock & Roll with passion and reverence.
URL:https://www.eatatsicily.com/events-sicily/dino-baptiste-4/
LOCATION:Sicily Italian Restaurant\, 2a Elizabeth Street\, London\, Belgravia\, SW1W 9RB\, United Kingdom
CATEGORIES:Dining experience,Jazz,Live music
ATTACH;FMTTYPE=image/jpeg:https://www.eatatsicily.com/wp-content/uploads/2023/04/Untitled-1-1-scaled.jpg
END:VEVENT
BEGIN:VEVENT
DTSTART;TZID=UTC:20251024T190000
DTEND;TZID=UTC:20251024T210000
DTSTAMP:20260420T155713
CREATED:20250801T080719Z
LAST-MODIFIED:20251021T145058Z
UID:17622-1761332400-1761339600@www.eatatsicily.com
SUMMARY:Rebecca Joanne Duo
DESCRIPTION:An Evening of Contemporary Music with Rebecca Joanne\nPrepare to be transported by an evening of bold\, thought-provoking\, and beautifully immersive music\, as we welcome Rebecca Joanne to Sicily Restaurant for a truly unique live performance. \nAbout Rebecca Joanne\nRebecca Joanne is a UK-based singer\, songwriter\, and choir director with a versatile musical background. She began her career as a classically trained singer and later expanded into jazz\, pop\, and other contemporary genres\, becoming a multi-skilled vocalist and instructor. This diverse foundation has made her an adaptable performer – she not only sings and plays piano\, but also teaches voice and leads choral workshops. Rebecca has been involved in organizing vocal workshops and directing community choirs\, reflecting her strong roots as a choir leader and vocal coach. \nRole in Pretty Desperate\nIn addition to her solo and jazz endeavors\, Rebecca Joanne is best known as a founding member of the duo Pretty Desperate. She co-created Pretty Desperate with guitarist/vocalist Flo Glen\, whom she met through their work as choir leaders. The two quickly formed a musical bond that led them to write original songs and craft a distinctive set of cover arrangements. In the band\, Rebecca contributes lead vocals and piano\, complementing Flo’s guitar and vocals. Pretty Desperate is described as a “soulful guitar and piano vocal duo” celebrated for their rich harmonies and unique interpretations of both modern and classic tracks. Their repertoire blends pop\, soul\, and jazz influences\, always delivered with a fresh\, personal twist. The duo even characterizes their style as “queer pop for pretty desperate times\,” emphasizing relatable songwriting and heartfelt performances in their branding and social media presence. \nNotable Performances & Recordings: Since forming the band\, Rebecca and Flo have performed together at intimate venues around London – for example\, Pretty Desperate headlined an evening of live pop/soul/jazz at Sicily Restaurant in Belgravia in June 2025.  The duo has also appeared at local music events (including festival showcases) where their close vocal harmonies and stripped-back arrangements resonate with audiences. In 2025 they released their debut single\, titled “Pretty Desperate\,” as an independent digital release. This first single (an original song sharing the band’s name) was made available for download via their BuyMeACoffee page\, allowing fans to support the production of future tracks. The group has hinted at more original music to come\, having already performed unreleased songs like “Cold Water” live in anticipation of a follow-up release. \nOther Musical Projects and Achievements\nOutside of Pretty Desperate\, Rebecca Joanne remains active in various musical projects. She is the lead vocalist of a Yorkshire-based jazz ensemble called Might As Well Be Swing (MAWBS)\, and she performs as one half of “Jazz by Jeff and Becky\,” a piano/vocal jazz duo that appears at events and upscale venues. Rebecca is also a longstanding member of the Rock Choir organization – she has served as a Rock Choir leader\, directing multiple adult choirs (at one point\, five groups in West Yorkshire) and helping singers of all abilities to perform together. Through Rock Choir\, she has participated in high-profile events: notably\, in 2018 Rebecca sang as a backing vocalist with the Rock Choir Vocal Group at BBC Proms in the Park (Hyde Park\, London)\, performing alongside artists like Josh Groban\, Albert Hammond\, and Michael Ball. This experience included rehearsals at the famed Abbey Road and Maida Vale studios and was a highlight of her early career. She has also contributed session vocals for recordings and live shows in other capacities. These accomplishments underscore Rebecca’s broad range – from fronting her own jazz and pop projects to supporting major acts as part of large ensemble performances. \n\nDine with us and experience the power of contemporary music in an intimate\, atmospheric setting. Book your table now
URL:https://www.eatatsicily.com/events-sicily/rebecca-joanne-duo/
LOCATION:Sicily Italian Restaurant\, 2a Elizabeth Street\, London\, Belgravia\, SW1W 9RB\, United Kingdom
CATEGORIES:Dining experience,Jazz,Live music
ATTACH;FMTTYPE=image/webp:https://www.eatatsicily.com/wp-content/uploads/2025/08/Facebook-Image-e1761057715340.webp
END:VEVENT
BEGIN:VEVENT
DTSTART;TZID=UTC:20251114T190000
DTEND;TZID=UTC:20251114T210000
DTSTAMP:20260420T155713
CREATED:20250516T075510Z
LAST-MODIFIED:20250801T080748Z
UID:17553-1763146800-1763154000@www.eatatsicily.com
SUMMARY:Tyger Tyger
DESCRIPTION:Experience a night of vintage swing\, jazz\, and infectious energy at Sicily in Belgravia!Join us for an unforgettable evening with Tyger Tyger – a vibrant London-based jazz trio bringing the golden era of music to life with double bass\, guitars\, rich harmonies\, and plenty of laughter. \n🎸 About the Band\nTyger Tyger blends smooth vocals\, dazzling musicianship\, and timeless tunes from the 1930s to the 1950s\, perfect for a night of toe-tapping\, wine-sipping\, and joyful vibes. \n🎤 John Bayley – Guitar & Vocals\nKnown for his legendary Jump Jive Christmas parties at the Royal Festival Hall\, John brings decades of swing\, jive\, and good-time jazz to the stage. \n🎼 Dave Moses – Double Bass & Vocals\nAn acclaimed world musician\, Dave’s impressive career spans collaborations with The Dubliners\, Stephane Grappelli\, Herbie Hancock\, and Ralph McTell. \n🎶 Simon Goodwin – Guitar & Vocals\nSimon’s versatile style blends gypsy jazz\, Latin\, bebop\, folk\, and more. He’s performed with the Manouche Messengers\, JAD Jazz Knights\, and Stella and Her Fellas.
URL:https://www.eatatsicily.com/events-sicily/tyger-tyger/
LOCATION:Sicily Italian Restaurant\, 2a Elizabeth Street\, London\, Belgravia\, SW1W 9RB\, United Kingdom
CATEGORIES:Jazz,Live music
ATTACH;FMTTYPE=image/jpeg:https://www.eatatsicily.com/wp-content/uploads/2023/04/Untitled-1-scaled.jpg
END:VEVENT
BEGIN:VEVENT
DTSTART;TZID=UTC:20260213T190000
DTEND;TZID=UTC:20260213T190000
DTSTAMP:20260420T155713
CREATED:20250801T074401Z
LAST-MODIFIED:20260209T150339Z
UID:17619-1771009200-1771009200@www.eatatsicily.com
SUMMARY:Dino Baptiste
DESCRIPTION:Dino Baptiste\, the lively pianist and entertainer originally from London\, UK\, has found a vibrant new home in Birmingham. His lively performances and strong connections to Blues\, Boogie Woogie\, and Rock & Roll offer a varied musical experience. \nInfluenced by legendary idols like Little Richard\, Jerry Lee Lewis\, and Ray Charles since his teenage years\, Dino incorporates their iconic qualities into his shows\, filling them with charisma and boundless energy. Now residing in Birmingham\, he continues to captivate audiences\, effortlessly moving between classics and contemporary covers\, highlighting his versatility and musical skill. \nDino’s stage presence reflects the influence of his idols\, presenting a captivating mix of enthusiasm and charm that keeps audiences engaged. As a highly spirited entertainer\, he turns each performance into a memorable musical journey\, whether delivering timeless tunes or giving a unique twist to current hits. \nBirmingham audiences are lucky to experience the enchanting performances of Dino Baptiste\, a pianist and vocalist whose shows honor the enduring spirit of Blues\, Boogie Woogie\, and Rock & Roll with passion and reverence.
URL:https://www.eatatsicily.com/events-sicily/dino-baptiste-3/
LOCATION:Sicily Italian Restaurant\, 2a Elizabeth Street\, London\, Belgravia\, SW1W 9RB\, United Kingdom
CATEGORIES:Dining experience,Jazz,Live music
ATTACH;FMTTYPE=image/jpeg:https://www.eatatsicily.com/wp-content/uploads/2023/04/Untitled-1-1-scaled.jpg
END:VEVENT
BEGIN:VEVENT
DTSTART;TZID=UTC:20260214T120000
DTEND;TZID=UTC:20260214T220000
DTSTAMP:20260420T155713
CREATED:20250115T110950Z
LAST-MODIFIED:20260204T141959Z
UID:17454-1771070400-1771106400@www.eatatsicily.com
SUMMARY:Valentine’s Day at Sicily Restaurant\, London
DESCRIPTION:Looking for the perfect Valentine’s Day restaurant in London? Celebrate love at Sicily Restaurant\, a romantic Italian restaurant in the heart of Belgravia\, where candlelight\, authentic Sicilian flavours and live music set the tone for an unforgettable evening. \nThis Friday 14th February\, join us for an intimate Valentine’s Day dinner accompanied by live piano music by Wally Shaw\, performing from 6pm to 9pm\, creating a warm\, elegant atmosphere perfect for a romantic night out in London. \nFor one night only\, we’ll be featuring one of our guests’ favourites: lobster linguine in a rich bisque sauce — indulgent\, refined\, and ideal for a special celebration. To make the evening even more memorable\, all ladies dining with us will be welcomed with a complimentary glass of prosecco on arrival. \nWhether you’re planning a romantic Valentine’s Day date\, celebrating with your partner\, or searching for a cosy Italian restaurant in London for Valentine’s Day\, Sicily Restaurant offers the perfect setting for love\, food and music to come together. \nTables are limited\, so we highly recommend booking in advance to secure your Valentine’s Day dinner in London. \nBook your table here
URL:https://www.eatatsicily.com/events-sicily/valentines-day/
LOCATION:Sicily Italian Restaurant\, 2a Elizabeth Street\, London\, Belgravia\, SW1W 9RB\, United Kingdom
CATEGORIES:Dining experience,Jazz,Live music
ATTACH;FMTTYPE=image/jpeg:https://www.eatatsicily.com/wp-content/uploads/2025/01/1635002E-E676-4F7F-B8E2-71EB4119AC52.jpg
END:VEVENT
BEGIN:VEVENT
DTSTART;TZID=UTC:20260320T190000
DTEND;TZID=UTC:20260320T220000
DTSTAMP:20260420T155713
CREATED:20250516T110428Z
LAST-MODIFIED:20260224T090432Z
UID:17554-1774033200-1774044000@www.eatatsicily.com
SUMMARY:Pretty Desperate
DESCRIPTION:Join us on Friday\, 2oth March for an intimate evening of live pop\, soul\, and jazz at Sicily Restaurant in Belgravia\, featuring the incredible duo Pretty Desperate. \n🎶 About Pretty Desperate\nFlo Glen and Rebecca Joanne are the creative force behind Pretty Desperate\, a soulful guitar and piano vocal duo known for their rich harmonies and unique interpretations of modern and classic tracks. \nThe pair met through their shared work as choir leaders\, quickly forming a musical bond that led to original compositions and a curated setlist of distinctive covers. Their repertoire blends pop\, soul\, and jazz\, always with a fresh and personal twist. \nExpect a night of gorgeous vocals\, stripped-back arrangements\, and heartfelt performances that create a warm and captivating atmosphere. \n\n📍 Live at Sicily Restaurant\, Belgravia\nDine with us in style while enjoying live music in the heart of London. Whether you’re a fan of soulful ballads\, jazzy reinterpretations\, or acoustic pop\, Pretty Desperate promises a memorable night. \nBook your table now for live music\, delicious Italian food\, and relaxed summer vibes.
URL:https://www.eatatsicily.com/events-sicily/pretty-desperate/
LOCATION:Sicily Italian Restaurant\, 2a Elizabeth Street\, London\, Belgravia\, SW1W 9RB\, United Kingdom
CATEGORIES:Jazz,Live music
ATTACH;FMTTYPE=image/png:https://www.eatatsicily.com/wp-content/uploads/2025/05/image1.png
END:VEVENT
BEGIN:VEVENT
DTSTART;TZID=UTC:20260403T190000
DTEND;TZID=UTC:20260403T220000
DTSTAMP:20260420T155713
CREATED:20260318T094449Z
LAST-MODIFIED:20260324T115343Z
UID:17817-1775242800-1775253600@www.eatatsicily.com
SUMMARY:Aisha Khan Trio
DESCRIPTION:Live Music This Good Friday at Sicily 🎶 \nJoin us this Easter weekend for an unforgettable evening of live music\, delicious food\, and that unmistakable Sicily atmosphere. This Good Friday\, we’re delighted to welcome a truly exceptional performer who will bring soul\, elegance\, and timeless rhythm to your table. \n\nMeet the Artist\nAisha Khan – Vocals \nAisha Khan brings the golden age of American roots music to life\, performing Jazz\, Blues\, and Rhythm & Blues from the 1940s and ’50s. With over 30 years of experience and a deep\, unwavering passion for the genre\, she delivers a captivating blend of outstanding original songs and powerful reinterpretations of classic favourites. \nWith a nod to the glamour and sophistication of a bygone era\, Aisha embodies both the sultry jazz chanteuse and the bold rhythm & blues belter. Her voice moves effortlessly through heartbreak\, joy\, and everything in between—honouring the legacy of the great Divas with every note. \n\nExpect an evening rich in atmosphere\, nostalgia\, and irresistible rhythm – perfectly paired with your favourite dishes and a glass (or two) of something delicious. \nBook your table and celebrate Good Friday with us\, the Sicily way. Grazie.
URL:https://www.eatatsicily.com/events-sicily/aisha-khan-trio/
LOCATION:Sicily Italian Restaurant\, 2a Elizabeth Street\, London\, Belgravia\, SW1W 9RB\, United Kingdom
CATEGORIES:Jazz,Live music
ATTACH;FMTTYPE=image/jpeg:https://www.eatatsicily.com/wp-content/uploads/2026/03/Aisha-Khan-Solo-Shot-e1774353204443.jpg
END:VEVENT
BEGIN:VEVENT
DTSTART;TZID=UTC:20260426T120000
DTEND;TZID=UTC:20260426T220000
DTSTAMP:20260420T155713
CREATED:20260414T110531Z
LAST-MODIFIED:20260415T081317Z
UID:17902-1777204800-1777240800@www.eatatsicily.com
SUMMARY:Celebrate the London Marathon at Sicily
DESCRIPTION:Celebrate the London Marathon at Sicily Restaurant: The Perfect Post-Run Spot in Central London\nThe London Marathon is one of the most iconic events in the city’s calendar – a day filled with energy\, emotion\, and an incredible sense of achievement. Whether you’ve just crossed the finish line\, supported a loved one\, or simply soaked up the atmosphere\, one thing is certain: you’ve earned a proper celebration. \nAnd when it comes to the perfect post-London Marathon meal in central London\, Sicily Restaurant is exactly where you want to be. \n\nThe Ideal Post-Marathon Restaurant in Central London\nLocation matters on marathon day – and we couldn’t be better placed. Situated in central London\, just a short distance from key marathon routes and transport links\, Sicily Restaurant offers a convenient and welcoming space to escape the crowds and unwind. \nAfter 26.2 miles (or a full day of cheering!)\, the last thing you want is to travel far. At Sicily\, you can step straight into a relaxed\, friendly atmosphere and finally take that well-deserved breath. \n\nRecovery Meals That Actually Hit the Spot\nAfter a marathon\, your body is craving exactly what Italian food does best: comfort\, nourishment\, and flavour. \nOur menu is built around fresh\, high-quality ingredients and dishes that are perfect for post-run recovery\, including: \n\nFreshly made pasta to help replenish energy\nBalanced\, nourishing plates with wholesome ingredients\nGenerous portions designed to satisfy serious hunger\nVegetarian and vegan options for every runner\n\nThink rich\, comforting sauces\, perfectly cooked pasta\, and dishes that feel both indulgent and restorative – the ideal combination after race day. \n\nLet Nonna Take Care of You\nAt the heart of Sicily is our Nonna – the soul of everything we do. Warm\, welcoming\, and always ready with a comforting plate of food\, she represents that feeling of being properly looked after. \nAnd after the London Marathon\, that’s exactly what you need. \nCome in\, sit down\, and let Nonna do the rest. No rush\, no pressure – just good food\, good energy\, and a moment to enjoy what you’ve achieved. \n\nThe Perfect Place to Celebrate (Runners & Supporters Welcome)\nWhether you ran the marathon or supported from the sidelines\, Sicily Restaurant is the perfect place to gather\, celebrate\, and share the moment. \n\nCelebrating a personal best?\nToasting your first marathon?\nRefuelling with friends and family?\n\nWe’ve got the space\, the food\, and the atmosphere to make it special. \n\nLondon Marathon 2026: Make Sicily Your Post-Run Tradition\nIf you’re planning your London Marathon 2026 experience\, make Sicily part of your day. Skip the overcrowded chains and choose somewhere with real character\, real food\, and real hospitality. \nBecause after everything you’ve put into the race\, you deserve more than just a meal — you deserve a moment. \n\nJoin Us After the London Marathon\nWe’ll be ready with open arms\, full plates\, and everything you need to recover and celebrate the Italian way. \nYou ran it. Now come enjoy it.Book your table here
URL:https://www.eatatsicily.com/events-sicily/london-marathon-2/
LOCATION:Sicily Italian Restaurant\, 2a Elizabeth Street\, London\, Belgravia\, SW1W 9RB\, United Kingdom
CATEGORIES:London Marathon
ATTACH;FMTTYPE=image/jpeg:https://www.eatatsicily.com/wp-content/uploads/2026/04/London-Marathon-e1776164719904.jpg
END:VEVENT
END:VCALENDAR