BEGIN:VCALENDAR
VERSION:2.0
PRODID:-//Sicily Italian Restaurant London - ECPv6.15.20//NONSGML v1.0//EN
CALSCALE:GREGORIAN
METHOD:PUBLISH
X-ORIGINAL-URL:https://www.eatatsicily.com
X-WR-CALDESC:Events for Sicily Italian Restaurant London
REFRESH-INTERVAL;VALUE=DURATION:PT1H
X-Robots-Tag:noindex
X-PUBLISHED-TTL:PT1H
BEGIN:VTIMEZONE
TZID:UTC
BEGIN:STANDARD
TZOFFSETFROM:+0000
TZOFFSETTO:+0000
TZNAME:UTC
DTSTART:20220101T000000
END:STANDARD
END:VTIMEZONE
BEGIN:VEVENT
DTSTART;TZID=UTC:20231117T190000
DTEND;TZID=UTC:20231117T220000
DTSTAMP:20260420T161251
CREATED:20230929T092118Z
LAST-MODIFIED:20231114T104755Z
UID:17084-1700247600-1700258400@www.eatatsicily.com
SUMMARY:Clement Regert Gab Duo
DESCRIPTION:Indulge in the captivating world of Clement Regert\, a distinguished French guitarist whose musical journey from the vibrant streets of Paris to the dynamic scene of London has left an enduring impact. Since making London his home in 2005\, Clement has become a prominent figure\, enchanting audiences with his unparalleled talent and contributing significantly to the diverse musical landscape of the city. \nClement’s musical adventures have graced numerous prestigious venues and festivals across the UK\, solidifying his reputation as a versatile and sought-after artist. From the prestigious stages of The London Jazz Festival and Ronnie Scott’s to the intimate settings of the 606 Club\, Pizza Express Soho\, and The Jazz Café\, his performances resonate with a fusion of Parisian charm and the eclectic energy of London’s music scene. Notable appearances at the Canary Wharf Jazz Festival and Ealing Jazz Festival further highlight the breadth of his influence and reach. \nWhat sets Clement apart is not only his exceptional solo performances but also his remarkable collaborations with a stellar lineup of artists. His musical alchemy has touched souls alongside renowned figures like Marcus Strickland\, Tim Garland\, Binker Goldings\, Imaani\, Dennis Rollins\, Denys Baptiste\, Trevor Mires\, Snowboy\, Ross Stanley\, and Paul Booth\, among many others. Each collaboration unfolds as a unique sonic tapestry\, weaving together diverse influences and genres\, showcasing Clement’s ability to seamlessly traverse the musical spectrum. \nClement Regert’s artistry is not confined by borders; it transcends cultural boundaries\, blending the elegance of French jazz traditions with the vibrant dynamism of the London music scene. Audiences find themselves immersed in a musical odyssey\, where each note tells a story of a guitarist whose journey continues to unfold\, leaving an indelible mark on the rich tapestry of the global music landscape.
URL:https://www.eatatsicily.com/events-sicily/clement-regert-gab-duo-2-2-2-2/
LOCATION:Sicily Italian Restaurant\, 2a Elizabeth Street\, London\, Belgravia\, SW1W 9RB\, United Kingdom
CATEGORIES:Dining experience,Jazz,Live music
ATTACH;FMTTYPE=image/jpeg:https://www.eatatsicily.com/wp-content/uploads/2023/05/Untitled-1-1-scaled.jpg
END:VEVENT
BEGIN:VEVENT
DTSTART;TZID=UTC:20231020T190000
DTEND;TZID=UTC:20231020T220000
DTSTAMP:20260420T161251
CREATED:20230830T091728Z
LAST-MODIFIED:20230830T091728Z
UID:17047-1697828400-1697839200@www.eatatsicily.com
SUMMARY:Clement Regert Gab Duo
DESCRIPTION:Clement Regert is a French guitarist from Paris. Since he moved to London in 2005\, Clement has played in numerous venue and festivals in the UK such as The London jazz Festival\, London Latin-Jazz Festival\, Ronnie Scott\, 606 club\, Pizza Express Soho\, Cadogan Hall\, The Jazz café\, the Canary Wharf jazz Festival\, Ealing Jazz Festival and collaborated with the likes of Marcus Strickland\, Tim Garland\, Binker Goldings\, Imaani\, Dennis Rollins\, Denys Baptiste\, Trevor Mires\, Snow boy\, Ross Stanley\, or Paul Booth to name just a few.
URL:https://www.eatatsicily.com/events-sicily/clement-regert-gab-duo-2-2-2/
LOCATION:Sicily Italian Restaurant\, 2a Elizabeth Street\, London\, Belgravia\, SW1W 9RB\, United Kingdom
CATEGORIES:Dining experience,Jazz,Live music
ATTACH;FMTTYPE=image/jpeg:https://www.eatatsicily.com/wp-content/uploads/2023/05/Untitled-1-1-scaled.jpg
END:VEVENT
BEGIN:VEVENT
DTSTART;TZID=UTC:20230915T190000
DTEND;TZID=UTC:20230915T220000
DTSTAMP:20260420T161251
CREATED:20230810T151040Z
LAST-MODIFIED:20230810T151040Z
UID:17037-1694804400-1694815200@www.eatatsicily.com
SUMMARY:Clement Regert Gab Duo
DESCRIPTION:Clement Regert is a French guitarist from Paris. Since he moved to London in 2005\, Clement has played in numerous venue and festivals in the UK such as The London jazz Festival\, London Latin-Jazz Festival\, Ronnie Scott\, 606 club\, Pizza Express Soho\, Cadogan Hall\, The Jazz café\, the Canary Wharf jazz Festival\, Ealing Jazz Festival and collaborated with the likes of Marcus Strickland\, Tim Garland\, Binker Goldings\, Imaani\, Dennis Rollins\, Denys Baptiste\, Trevor Mires\, Snow boy\, Ross Stanley\, or Paul Booth to name just a few.
URL:https://www.eatatsicily.com/events-sicily/clement-regert-gab-duo-2-2/
LOCATION:Sicily Italian Restaurant\, 2a Elizabeth Street\, London\, Belgravia\, SW1W 9RB\, United Kingdom
CATEGORIES:Dining experience,Jazz,Live music
ATTACH;FMTTYPE=image/jpeg:https://www.eatatsicily.com/wp-content/uploads/2023/05/Untitled-1-1-scaled.jpg
END:VEVENT
BEGIN:VEVENT
DTSTART;TZID=UTC:20230811T190000
DTEND;TZID=UTC:20230811T220000
DTSTAMP:20260420T161251
CREATED:20230411T113255Z
LAST-MODIFIED:20230626T114741Z
UID:16869-1691780400-1691791200@www.eatatsicily.com
SUMMARY:Dino Baptiste
DESCRIPTION:Dino Baptiste is a highly energetic pianist\, vocalist and entertainer from London UK. Now residing in Birmingham\, Dino has strong links to Blues\, Boogie Woogie & Rock & Roll as well as performing mainstream classics & current cover songs. His influences revolve around three idols since a teenager – Little Richard\, Jerry Lee Lewis & Ray Charles. Here\, Dino has seen each one a legend\, perform with such showmanship and charm that has reflected in his own performance.
URL:https://www.eatatsicily.com/events-sicily/dino-baptiste-15-2/
LOCATION:Sicily Italian Restaurant\, 2a Elizabeth Street\, London\, Belgravia\, SW1W 9RB\, United Kingdom
CATEGORIES:Dining experience,Live music
ATTACH;FMTTYPE=image/jpeg:https://www.eatatsicily.com/wp-content/uploads/2023/04/Untitled-1-1-scaled.jpg
END:VEVENT
BEGIN:VEVENT
DTSTART;TZID=UTC:20230721T190000
DTEND;TZID=UTC:20230721T220000
DTSTAMP:20260420T161251
CREATED:20230525T093819Z
LAST-MODIFIED:20230525T093819Z
UID:17001-1689966000-1689976800@www.eatatsicily.com
SUMMARY:Clement Regert Gab Duo
DESCRIPTION:Clement Regert is a French guitarist from Paris. Since he moved to London in 2005\, Clement has played in numerous venue and festivals in the UK such as The London jazz Festival\, London Latin-Jazz Festival\, Ronnie Scott\, 606 club\, Pizza Express Soho\, Cadogan Hall\, The Jazz café\, the Canary Wharf jazz Festival\, Ealing Jazz Festival and collaborated with the likes of Marcus Strickland\, Tim Garland\, Binker Goldings\, Imaani\, Dennis Rollins\, Denys Baptiste\, Trevor Mires\, Snow boy\, Ross Stanley\, or Paul Booth to name just a few.
URL:https://www.eatatsicily.com/events-sicily/clement-regert-gab-duo/
LOCATION:Sicily Italian Restaurant\, 2a Elizabeth Street\, London\, Belgravia\, SW1W 9RB\, United Kingdom
CATEGORIES:Dining experience,Jazz,Live music
ATTACH;FMTTYPE=image/jpeg:https://www.eatatsicily.com/wp-content/uploads/2023/05/Untitled-1-1-scaled.jpg
END:VEVENT
BEGIN:VEVENT
DTSTART;TZID=UTC:20230714T190000
DTEND;TZID=UTC:20230714T220000
DTSTAMP:20260420T161251
CREATED:20230525T092706Z
LAST-MODIFIED:20230525T092706Z
UID:16999-1689361200-1689372000@www.eatatsicily.com
SUMMARY:Antonio Marzinotto & Rachel Sutton
DESCRIPTION:Antonio has been hosting one of the most respected jam in London for several years at Nomad Jazz Club\, since summer 2011\, playing with some of the best artist of the international scene. \nHe came in London in the summer 2004 and since then he had both the possibility and the intention to challenge himself with different musical genres\, like Jazz\, South American Music (Bossa\, Samba\, Tango\, etc)\, Acoustic and more recently he came back playing Jazz Rock and Fusion. \nRachel Sutton » singer\, songwriter and lyricist. Rachel Sutton has worked as both an actress and a singer. Her rich tone and sense of swing coupled with her background in theatre makes her an engaging interpreter of both classic jazz and more contemporary repertoire.
URL:https://www.eatatsicily.com/events-sicily/antonio-marzinotto-rachel-sutton/
LOCATION:Sicily Italian Restaurant\, 2a Elizabeth Street\, London\, Belgravia\, SW1W 9RB\, United Kingdom
CATEGORIES:Dining experience,Jazz,Live music
ATTACH;FMTTYPE=image/jpeg:https://www.eatatsicily.com/wp-content/uploads/2023/05/Untitled-1-scaled.jpg
END:VEVENT
BEGIN:VEVENT
DTSTART;TZID=UTC:20230623T190000
DTEND;TZID=UTC:20230623T220000
DTSTAMP:20260420T161251
CREATED:20230620T104923Z
LAST-MODIFIED:20230620T104923Z
UID:17011-1687546800-1687557600@www.eatatsicily.com
SUMMARY:Clement Regert Gab Duo
DESCRIPTION:Clement Regert is a French guitarist from Paris. Since he moved to London in 2005\, Clement has played in numerous venue and festivals in the UK such as The London jazz Festival\, London Latin-Jazz Festival\, Ronnie Scott\, 606 club\, Pizza Express Soho\, Cadogan Hall\, The Jazz café\, the Canary Wharf jazz Festival\, Ealing Jazz Festival and collaborated with the likes of Marcus Strickland\, Tim Garland\, Binker Goldings\, Imaani\, Dennis Rollins\, Denys Baptiste\, Trevor Mires\, Snow boy\, Ross Stanley\, or Paul Booth to name just a few.
URL:https://www.eatatsicily.com/events-sicily/clement-regert-gab-duo-2/
LOCATION:Sicily Italian Restaurant\, 2a Elizabeth Street\, London\, Belgravia\, SW1W 9RB\, United Kingdom
CATEGORIES:Dining experience,Jazz,Live music
ATTACH;FMTTYPE=image/jpeg:https://www.eatatsicily.com/wp-content/uploads/2023/05/Untitled-1-1-scaled.jpg
END:VEVENT
END:VCALENDAR